BEGIN:VCALENDAR
VERSION:2.0
PRODID:icalendar-ruby
CALSCALE:GREGORIAN
METHOD:REQUEST
BEGIN:VEVENT
DTSTAMP:20260423T154325Z
UID:d99534e9-d23c-4892-90c1-2edb77a498fc
DTSTART:20251119T073000Z
DTEND:20251120T123000Z
DESCRIPTION:\n\nTop 100\nאירוע לקוחות בכירים\n\nהה
 רשמה לאירוע זה הסתיימה\, נא לפנות במיד
 ת הצורך למנהל/ת הלקוח בבזק בינלאומי\n\n
 אנו שמחים להזמינך לאירוע TOP 100 -אירוע ה
 לקוחות הבכירים השנתי של בזק בינלאומי 
 בהשתתפות כ-100 מנהלים בכירים ומקבלי החל
 טות בתחום ה-IT.\n\nאנו מזמינים אותך לאירו
 ע ייחודי אשר משלב בתוכו יומיים עמוסים 
 בחוויות ואטרקציות לצד תוכן מקצועי מעש
 יר על חדשנות\,\nיזמות וחיבור בין טכנולו
 גיה לאנשים - בדגש על מהפכת הבינה המלאכ
 ותית ודרכי הטמעה שלה בארגונים כמנוע צ
 מיחה עסקי.\n\nנשמח לראותך בין אורחינו !\n
 \n\nאנו ממליצים להתעדכן באתר מידי פעם ו
 לוודא שהמיקום או תאריך האירוע לא שונה:
  https://bezeqint-top-100.events.co.il/home
LOCATION:מלון אלמא\, יאיר 1\, זכרון יעקב
ORGANIZER;CN=People & Computers:mailto:events@thepeople.co.il
SEQUENCE:1776959005
SUMMARY:Top 100
URL;VALUE=URI:https://bezeqint-top-100.events.co.il/home
X-ALT-DESC;FMTTYPE=text/html:<div align=right dir=rtl><p></p>\n\n<p>To
 p 100\n<br />אירוע לקוחות בכירים</p>\n\n<p>ההרש
 מה לאירוע זה הסתיימה\, נא לפנות במידת ה
 צורך למנהל/ת הלקוח בבזק בינלאומי</p>\n\n<p
 >אנו שמחים להזמינך לאירוע TOP 100 -אירוע ה
 לקוחות הבכירים השנתי של בזק בינלאומי 
 בהשתתפות כ-100 מנהלים בכירים ומקבלי החל
 טות בתחום ה-IT.</p>\n\n<p>אנו מזמינים אותך ל
 אירוע ייחודי אשר משלב בתוכו יומיים עמ
 וסים בחוויות ואטרקציות לצד תוכן מקצוע
 י מעשיר על חדשנות\,\n<br />יזמות וחיבור בי
 ן טכנולוגיה לאנשים - בדגש על מהפכת הבי
 נה המלאכותית ודרכי הטמעה שלה בארגונים
  כמנוע צמיחה עסקי.</p>\n\n<p>נשמח לראותך בי
 ן אורחינו !</p>\n\n<p>אנו ממליצים להתעדכן ב
 אתר מידי פעם ולוודא שהמיקום או תאריך ה
 אירוע לא שונה: https://bezeqint-top-100.events.co.il/home<
 /p></div>
BEGIN:VALARM
ACTION:DISPLAY
TRIGGER:-P1D
DESCRIPTION:REMINDER
SUMMARY:Top 100 מחר בשעה 09:30!
END:VALARM
END:VEVENT
END:VCALENDAR
